BEGIN:VCALENDAR
VERSION:2.0
PRODID:icalendar-ruby
CALSCALE:GREGORIAN
METHOD:PUBLISH
BEGIN:VEVENT
DTSTAMP:20260426T030157Z
UID:21-2215061@ourredeemersandiego.org
DTSTART:20251026T200000Z
DTEND:20251026T220000Z
CLASS:PUBLIC
CREATED:20260425T173608
DESCRIPTION:
LAST-MODIFIED:20260425T173608
LOCATION:Our Redeemer Lutheran Church
SUMMARY:Oromo Ministries
URL;VALUE=URI:https://www.orlcsd.org/events/oromo-ministries/2025-10-26
END:VEVENT
END:VCALENDAR
