BEGIN:VCALENDAR
VERSION:2.0
PRODID:icalendar-ruby
CALSCALE:GREGORIAN
METHOD:PUBLISH
BEGIN:VEVENT
DTSTAMP:20260426T012331Z
UID:21-2215060@ourredeemersandiego.org
DTSTART:20251019T200000Z
DTEND:20251019T220000Z
CLASS:PUBLIC
CREATED:20260425T173608
DESCRIPTION:
LAST-MODIFIED:20260425T173608
LOCATION:Our Redeemer Lutheran Church
SUMMARY:Oromo Ministries
URL;VALUE=URI:https://www.orlcsd.org/events/oromo-ministries/2025-10-19
END:VEVENT
END:VCALENDAR
