BEGIN:VCALENDAR
VERSION:2.0
PRODID:icalendar-ruby
CALSCALE:GREGORIAN
METHOD:PUBLISH
BEGIN:VEVENT
DTSTAMP:20260425T235608Z
UID:21-2213693@ourredeemersandiego.org
DTSTART:20251012T200000Z
DTEND:20251012T220000Z
CLASS:PUBLIC
CREATED:20260425T145306
DESCRIPTION:
LAST-MODIFIED:20260425T145306
LOCATION:Our Redeemer Lutheran Church
SUMMARY:Oromo Ministries
URL;VALUE=URI:https://www.orlcsd.org/events/oromo-ministries/2025-10-12
END:VEVENT
END:VCALENDAR
