BEGIN:VCALENDAR
VERSION:2.0
PRODID:icalendar-ruby
CALSCALE:GREGORIAN
METHOD:PUBLISH
BEGIN:VEVENT
DTSTAMP:20260425T222200Z
UID:21-2213692@ourredeemersandiego.org
DTSTART:20251005T200000Z
DTEND:20251005T220000Z
CLASS:PUBLIC
CREATED:20260425T145306
DESCRIPTION:
LAST-MODIFIED:20260425T145306
LOCATION:Our Redeemer Lutheran Church
SUMMARY:Oromo Ministries
URL;VALUE=URI:https://www.orlcsd.org/events/oromo-ministries/2025-10-05
END:VEVENT
END:VCALENDAR
