BEGIN:VCALENDAR
VERSION:2.0
PRODID:icalendar-ruby
CALSCALE:GREGORIAN
METHOD:PUBLISH
BEGIN:VEVENT
DTSTAMP:20260425T203956Z
UID:21-2212325@ourredeemersandiego.org
DTSTART:20250928T200000Z
DTEND:20250928T220000Z
CLASS:PUBLIC
CREATED:20260425T121050
DESCRIPTION:
LAST-MODIFIED:20260425T121050
LOCATION:Our Redeemer Lutheran Church
SUMMARY:Oromo Ministries
URL;VALUE=URI:https://www.orlcsd.org/events/oromo-ministries/2025-09-28
END:VEVENT
END:VCALENDAR
