BEGIN:VCALENDAR
VERSION:2.0
PRODID:icalendar-ruby
CALSCALE:GREGORIAN
METHOD:PUBLISH
BEGIN:VEVENT
DTSTAMP:20260425T162124Z
UID:21-2209590@ourredeemersandiego.org
DTSTART:20250907T200000Z
DTEND:20250907T220000Z
CLASS:PUBLIC
CREATED:20260425T064959
DESCRIPTION:
LAST-MODIFIED:20260425T064959
LOCATION:Our Redeemer Lutheran Church
SUMMARY:Oromo Ministries
URL;VALUE=URI:https://www.orlcsd.org/events/oromo-ministries/2025-09-07
END:VEVENT
END:VCALENDAR
