BEGIN:VCALENDAR
VERSION:2.0
PRODID:icalendar-ruby
CALSCALE:GREGORIAN
METHOD:PUBLISH
BEGIN:VEVENT
DTSTAMP:20260425T122054Z
UID:21-2208221@ourredeemersandiego.org
DTSTART:20250817T200000Z
DTEND:20250817T220000Z
CLASS:PUBLIC
CREATED:20260425T040835
DESCRIPTION:
LAST-MODIFIED:20260425T040835
LOCATION:Our Redeemer Lutheran Church
SUMMARY:Oromo Ministries
URL;VALUE=URI:https://www.orlcsd.org/events/oromo-ministries/2025-08-17
END:VEVENT
END:VCALENDAR
