BEGIN:VCALENDAR
VERSION:2.0
PRODID:icalendar-ruby
CALSCALE:GREGORIAN
METHOD:PUBLISH
BEGIN:VEVENT
DTSTAMP:20260424T225234Z
UID:21-2205480@ourredeemersandiego.org
DTSTART:20250615T200000Z
DTEND:20250615T220000Z
CLASS:PUBLIC
CREATED:20260424T153219
DESCRIPTION:
LAST-MODIFIED:20260424T153219
LOCATION:Our Redeemer Lutheran Church
SUMMARY:Oromo Ministries
URL;VALUE=URI:https://www.orlcsd.org/events/oromo-ministries/2025-06-15
END:VEVENT
END:VCALENDAR
