BEGIN:VCALENDAR
VERSION:2.0
PRODID:icalendar-ruby
CALSCALE:GREGORIAN
METHOD:PUBLISH
BEGIN:VEVENT
DTSTAMP:20260424T200314Z
UID:21-2204112@ourredeemersandiego.org
DTSTART:20250601T200000Z
DTEND:20250601T220000Z
CLASS:PUBLIC
CREATED:20260424T124430
DESCRIPTION:
LAST-MODIFIED:20260424T124430
LOCATION:Our Redeemer Lutheran Church
SUMMARY:Oromo Ministries
URL;VALUE=URI:https://www.orlcsd.org/events/oromo-ministries/2025-06-01
END:VEVENT
END:VCALENDAR
