BEGIN:VCALENDAR
VERSION:2.0
PRODID:icalendar-ruby
CALSCALE:GREGORIAN
METHOD:PUBLISH
BEGIN:VEVENT
DTSTAMP:20260424T185050Z
UID:21-2202745@ourredeemersandiego.org
DTSTART:20250525T200000Z
DTEND:20250525T220000Z
CLASS:PUBLIC
CREATED:20260424T095758
DESCRIPTION:
LAST-MODIFIED:20260424T095758
LOCATION:Our Redeemer Lutheran Church
SUMMARY:Oromo Ministries
URL;VALUE=URI:https://www.orlcsd.org/events/oromo-ministries/2025-05-25
END:VEVENT
END:VCALENDAR
