BEGIN:VCALENDAR
VERSION:2.0
PRODID:icalendar-ruby
CALSCALE:GREGORIAN
METHOD:PUBLISH
BEGIN:VEVENT
DTSTAMP:20260424T132628Z
UID:21-2200009@ourredeemersandiego.org
DTSTART:20250427T200000Z
DTEND:20250427T220000Z
CLASS:PUBLIC
CREATED:20260424T041453
DESCRIPTION:
LAST-MODIFIED:20260424T041453
LOCATION:Our Redeemer Lutheran Church
SUMMARY:Oromo Ministries
URL;VALUE=URI:https://www.orlcsd.org/events/oromo-ministries/2025-04-27
END:VEVENT
END:VCALENDAR
