BEGIN:VCALENDAR
VERSION:2.0
PRODID:icalendar-ruby
CALSCALE:GREGORIAN
METHOD:PUBLISH
BEGIN:VEVENT
DTSTAMP:20260424T115646Z
UID:21-2200008@ourredeemersandiego.org
DTSTART:20250420T200000Z
DTEND:20250420T220000Z
CLASS:PUBLIC
CREATED:20260424T041453
DESCRIPTION:
LAST-MODIFIED:20260424T041453
LOCATION:Our Redeemer Lutheran Church
SUMMARY:Oromo Ministries
URL;VALUE=URI:https://www.orlcsd.org/events/oromo-ministries/2025-04-20
END:VEVENT
END:VCALENDAR
