BEGIN:VCALENDAR
VERSION:2.0
PRODID:icalendar-ruby
CALSCALE:GREGORIAN
METHOD:PUBLISH
BEGIN:VEVENT
DTSTAMP:20260424T061849Z
UID:21-2198638@ourredeemersandiego.org
DTSTART:20250323T200000Z
DTEND:20250323T220000Z
CLASS:PUBLIC
CREATED:20260423T184634
DESCRIPTION:
LAST-MODIFIED:20260423T184634
LOCATION:Our Redeemer Lutheran Church
SUMMARY:Oromo Ministries
URL;VALUE=URI:https://www.orlcsd.org/events/oromo-ministries/2025-03-23
END:VEVENT
END:VCALENDAR
