BEGIN:VCALENDAR
VERSION:2.0
PRODID:icalendar-ruby
CALSCALE:GREGORIAN
METHOD:PUBLISH
BEGIN:VEVENT
DTSTAMP:20260424T022349Z
UID:21-2198635@ourredeemersandiego.org
DTSTART:20250302T210000Z
DTEND:20250302T230000Z
CLASS:PUBLIC
CREATED:20260423T184634
DESCRIPTION:
LAST-MODIFIED:20260423T184634
LOCATION:Our Redeemer Lutheran Church
SUMMARY:Oromo Ministries
URL;VALUE=URI:https://www.orlcsd.org/events/oromo-ministries/2025-03-02
END:VEVENT
END:VCALENDAR
