BEGIN:VCALENDAR
VERSION:2.0
PRODID:icalendar-ruby
CALSCALE:GREGORIAN
METHOD:PUBLISH
BEGIN:VEVENT
DTSTAMP:20260423T233924Z
UID:21-2197267@ourredeemersandiego.org
DTSTART:20250216T210000Z
DTEND:20250216T230000Z
CLASS:PUBLIC
CREATED:20260423T155320
DESCRIPTION:
LAST-MODIFIED:20260423T155320
LOCATION:Our Redeemer Lutheran Church
SUMMARY:Oromo Ministries
URL;VALUE=URI:https://www.orlcsd.org/events/oromo-ministries/2025-02-16
END:VEVENT
END:VCALENDAR
