BEGIN:VCALENDAR
VERSION:2.0
PRODID:icalendar-ruby
CALSCALE:GREGORIAN
METHOD:PUBLISH
BEGIN:VEVENT
DTSTAMP:20260423T210551Z
UID:21-2195899@ourredeemersandiego.org
DTSTART:20250202T210000Z
DTEND:20250202T230000Z
CLASS:PUBLIC
CREATED:20260423T125916
DESCRIPTION:
LAST-MODIFIED:20260423T125916
LOCATION:Our Redeemer Lutheran Church
SUMMARY:Oromo Ministries
URL;VALUE=URI:https://www.orlcsd.org/events/oromo-ministries/2025-02-02
END:VEVENT
END:VCALENDAR
