BEGIN:VCALENDAR
VERSION:2.0
PRODID:icalendar-ruby
CALSCALE:GREGORIAN
METHOD:PUBLISH
BEGIN:VEVENT
DTSTAMP:20260423T193048Z
UID:21-2194530@ourredeemersandiego.org
DTSTART:20250126T210000Z
DTEND:20250126T230000Z
CLASS:PUBLIC
CREATED:20260423T100235
DESCRIPTION:
LAST-MODIFIED:20260423T100235
LOCATION:Our Redeemer Lutheran Church
SUMMARY:Oromo Ministries
URL;VALUE=URI:https://www.orlcsd.org/events/oromo-ministries/2025-01-26
END:VEVENT
END:VCALENDAR
