BEGIN:VCALENDAR
VERSION:2.0
PRODID:icalendar-ruby
CALSCALE:GREGORIAN
METHOD:PUBLISH
BEGIN:VEVENT
DTSTAMP:20260423T162651Z
UID:21-2193162@ourredeemersandiego.org
DTSTART:20250112T210000Z
DTEND:20250112T230000Z
CLASS:PUBLIC
CREATED:20260423T070828
DESCRIPTION:
LAST-MODIFIED:20260423T070828
LOCATION:Our Redeemer Lutheran Church
SUMMARY:Oromo Ministries
URL;VALUE=URI:https://www.orlcsd.org/events/oromo-ministries/2025-01-12
END:VEVENT
END:VCALENDAR
