BEGIN:VCALENDAR
VERSION:2.0
PRODID:icalendar-ruby
CALSCALE:GREGORIAN
METHOD:PUBLISH
BEGIN:VEVENT
DTSTAMP:20260423T070619Z
UID:21-2190424@ourredeemersandiego.org
DTSTART:20241201T210000Z
DTEND:20241201T230000Z
CLASS:PUBLIC
CREATED:20260422T184438
DESCRIPTION:
LAST-MODIFIED:20260422T184438
LOCATION:Our Redeemer Lutheran Church
SUMMARY:Oromo Ministries
URL;VALUE=URI:https://www.orlcsd.org/events/oromo-ministries/2024-12-01
END:VEVENT
END:VCALENDAR
