BEGIN:VCALENDAR
VERSION:2.0
PRODID:icalendar-ruby
CALSCALE:GREGORIAN
METHOD:PUBLISH
BEGIN:VEVENT
DTSTAMP:20260423T042449Z
UID:21-2190422@ourredeemersandiego.org
DTSTART:20241117T210000Z
DTEND:20241117T230000Z
CLASS:PUBLIC
CREATED:20260422T184438
DESCRIPTION:
LAST-MODIFIED:20260422T184438
LOCATION:Our Redeemer Lutheran Church
SUMMARY:Oromo Ministries
URL;VALUE=URI:https://www.orlcsd.org/events/oromo-ministries/2024-11-17
END:VEVENT
END:VCALENDAR
