BEGIN:VCALENDAR
VERSION:2.0
PRODID:icalendar-ruby
CALSCALE:GREGORIAN
METHOD:PUBLISH
BEGIN:VEVENT
DTSTAMP:20260423T001853Z
UID:21-2189053@ourredeemersandiego.org
DTSTART:20241027T200000Z
DTEND:20241027T220000Z
CLASS:PUBLIC
CREATED:20260422T155213
DESCRIPTION:
LAST-MODIFIED:20260422T155213
LOCATION:Our Redeemer Lutheran Church
SUMMARY:Oromo Ministries
URL;VALUE=URI:https://www.orlcsd.org/events/oromo-ministries/2024-10-27
END:VEVENT
END:VCALENDAR
