BEGIN:VCALENDAR
VERSION:2.0
PRODID:icalendar-ruby
CALSCALE:GREGORIAN
METHOD:PUBLISH
BEGIN:VEVENT
DTSTAMP:20260422T224414Z
UID:21-2187686@ourredeemersandiego.org
DTSTART:20241020T200000Z
DTEND:20241020T220000Z
CLASS:PUBLIC
CREATED:20260422T125841
DESCRIPTION:
LAST-MODIFIED:20260422T125841
LOCATION:Our Redeemer Lutheran Church
SUMMARY:Oromo Ministries
URL;VALUE=URI:https://www.orlcsd.org/events/oromo-ministries/2024-10-20
END:VEVENT
END:VCALENDAR
