BEGIN:VCALENDAR
VERSION:2.0
PRODID:icalendar-ruby
CALSCALE:GREGORIAN
METHOD:PUBLISH
BEGIN:VEVENT
DTSTAMP:20260422T173822Z
UID:21-2186316@ourredeemersandiego.org
DTSTART:20240922T200000Z
DTEND:20240922T220000Z
CLASS:PUBLIC
CREATED:20260422T100351
DESCRIPTION:
LAST-MODIFIED:20260422T100351
LOCATION:Our Redeemer Lutheran Church
SUMMARY:Oromo Ministries
URL;VALUE=URI:https://www.orlcsd.org/events/oromo-ministries/2024-09-22
END:VEVENT
END:VCALENDAR
