BEGIN:VCALENDAR
VERSION:2.0
PRODID:icalendar-ruby
CALSCALE:GREGORIAN
METHOD:PUBLISH
BEGIN:VEVENT
DTSTAMP:20260422T132022Z
UID:21-2183581@ourredeemersandiego.org
DTSTART:20240901T200000Z
DTEND:20240901T220000Z
CLASS:PUBLIC
CREATED:20260422T041338
DESCRIPTION:
LAST-MODIFIED:20260422T041338
LOCATION:Our Redeemer Lutheran Church
SUMMARY:Oromo Ministries
URL;VALUE=URI:https://www.orlcsd.org/events/oromo-ministries/2024-09-01
END:VEVENT
END:VCALENDAR
