BEGIN:VCALENDAR
VERSION:2.0
PRODID:icalendar-ruby
CALSCALE:GREGORIAN
METHOD:PUBLISH
BEGIN:VEVENT
DTSTAMP:20260422T115106Z
UID:21-2183580@ourredeemersandiego.org
DTSTART:20240825T200000Z
DTEND:20240825T220000Z
CLASS:PUBLIC
CREATED:20260422T041338
DESCRIPTION:
LAST-MODIFIED:20260422T041338
LOCATION:Our Redeemer Lutheran Church
SUMMARY:Oromo Ministries
URL;VALUE=URI:https://www.orlcsd.org/events/oromo-ministries/2024-08-25
END:VEVENT
END:VCALENDAR
