BEGIN:VCALENDAR
VERSION:2.0
PRODID:icalendar-ruby
CALSCALE:GREGORIAN
METHOD:PUBLISH
BEGIN:VEVENT
DTSTAMP:20260422T003949Z
UID:21-2182206@ourredeemersandiego.org
DTSTART:20240630T200000Z
DTEND:20240630T220000Z
CLASS:PUBLIC
CREATED:20260421T171325
DESCRIPTION:
LAST-MODIFIED:20260421T171325
LOCATION:Our Redeemer Lutheran Church
SUMMARY:Oromo Ministries
URL;VALUE=URI:https://www.orlcsd.org/events/oromo-ministries/2024-06-30
END:VEVENT
END:VCALENDAR
