BEGIN:VCALENDAR
VERSION:2.0
PRODID:icalendar-ruby
CALSCALE:GREGORIAN
METHOD:PUBLISH
BEGIN:VEVENT
DTSTAMP:20260421T212536Z
UID:21-2179474@ourredeemersandiego.org
DTSTART:20240616T200000Z
DTEND:20240616T220000Z
CLASS:PUBLIC
CREATED:20260421T115741
DESCRIPTION:
LAST-MODIFIED:20260421T115741
LOCATION:Our Redeemer Lutheran Church
SUMMARY:Oromo Ministries
URL;VALUE=URI:https://www.orlcsd.org/events/oromo-ministries/2024-06-16
END:VEVENT
END:VCALENDAR
