BEGIN:VCALENDAR
VERSION:2.0
PRODID:icalendar-ruby
CALSCALE:GREGORIAN
METHOD:PUBLISH
BEGIN:VEVENT
DTSTAMP:20260421T181447Z
UID:21-2178107@ourredeemersandiego.org
DTSTART:20240602T200000Z
DTEND:20240602T220000Z
CLASS:PUBLIC
CREATED:20260421T091949
DESCRIPTION:
LAST-MODIFIED:20260421T091949
LOCATION:Our Redeemer Lutheran Church
SUMMARY:Oromo Ministries
URL;VALUE=URI:https://www.orlcsd.org/events/oromo-ministries/2024-06-02
END:VEVENT
END:VCALENDAR
