BEGIN:VCALENDAR
VERSION:2.0
PRODID:icalendar-ruby
CALSCALE:GREGORIAN
METHOD:PUBLISH
BEGIN:VEVENT
DTSTAMP:20260421T152129Z
UID:21-2176740@ourredeemersandiego.org
DTSTART:20240519T200000Z
DTEND:20240519T220000Z
CLASS:PUBLIC
CREATED:20260421T064154
DESCRIPTION:
LAST-MODIFIED:20260421T064154
LOCATION:Our Redeemer Lutheran Church
SUMMARY:Oromo Ministries
URL;VALUE=URI:https://www.orlcsd.org/events/oromo-ministries/2024-05-19
END:VEVENT
END:VCALENDAR
