BEGIN:VCALENDAR
VERSION:2.0
PRODID:icalendar-ruby
CALSCALE:GREGORIAN
METHOD:PUBLISH
BEGIN:VEVENT
DTSTAMP:20260421T121628Z
UID:21-2175373@ourredeemersandiego.org
DTSTART:20240505T200000Z
DTEND:20240505T220000Z
CLASS:PUBLIC
CREATED:20260421T040615
DESCRIPTION:
LAST-MODIFIED:20260421T040615
LOCATION:Our Redeemer Lutheran Church
SUMMARY:Oromo Ministries
URL;VALUE=URI:https://www.orlcsd.org/events/oromo-ministries/2024-05-05
END:VEVENT
END:VCALENDAR
