BEGIN:VCALENDAR
VERSION:2.0
PRODID:icalendar-ruby
CALSCALE:GREGORIAN
METHOD:PUBLISH
BEGIN:VEVENT
DTSTAMP:20260421T041755Z
UID:21-2174003@ourredeemersandiego.org
DTSTART:20240331T200000Z
DTEND:20240331T220000Z
CLASS:PUBLIC
CREATED:20260420T165959
DESCRIPTION:
LAST-MODIFIED:20260420T165959
LOCATION:Our Redeemer Lutheran Church
SUMMARY:Oromo Ministries
URL;VALUE=URI:https://www.orlcsd.org/events/oromo-ministries/2024-03-31
END:VEVENT
END:VCALENDAR
