BEGIN:VCALENDAR
VERSION:2.0
PRODID:icalendar-ruby
CALSCALE:GREGORIAN
METHOD:PUBLISH
BEGIN:VEVENT
DTSTAMP:20260420T224059Z
UID:21-2172634@ourredeemersandiego.org
DTSTART:20240303T210000Z
DTEND:20240303T230000Z
CLASS:PUBLIC
CREATED:20260420T142501
DESCRIPTION:
LAST-MODIFIED:20260420T142501
LOCATION:Our Redeemer Lutheran Church
SUMMARY:Oromo Ministries
URL;VALUE=URI:https://www.orlcsd.org/events/oromo-ministries/2024-03-03
END:VEVENT
END:VCALENDAR
