BEGIN:VCALENDAR
VERSION:2.0
PRODID:icalendar-ruby
CALSCALE:GREGORIAN
METHOD:PUBLISH
BEGIN:VEVENT
DTSTAMP:20260420T193604Z
UID:21-2171267@ourredeemersandiego.org
DTSTART:20240218T210000Z
DTEND:20240218T230000Z
CLASS:PUBLIC
CREATED:20260420T114852
DESCRIPTION:
LAST-MODIFIED:20260420T114852
LOCATION:Our Redeemer Lutheran Church
SUMMARY:Oromo Ministries
URL;VALUE=URI:https://www.orlcsd.org/events/oromo-ministries/2024-02-18
END:VEVENT
END:VCALENDAR
