BEGIN:VCALENDAR
VERSION:2.0
PRODID:icalendar-ruby
CALSCALE:GREGORIAN
METHOD:PUBLISH
BEGIN:VEVENT
DTSTAMP:20260420T163706Z
UID:21-2169900@ourredeemersandiego.org
DTSTART:20240204T210000Z
DTEND:20240204T230000Z
CLASS:PUBLIC
CREATED:20260420T091441
DESCRIPTION:
LAST-MODIFIED:20260420T091441
LOCATION:Our Redeemer Lutheran Church
SUMMARY:Oromo Ministries
URL;VALUE=URI:https://www.orlcsd.org/events/oromo-ministries/2024-02-04
END:VEVENT
END:VCALENDAR
