BEGIN:VCALENDAR
VERSION:2.0
PRODID:icalendar-ruby
CALSCALE:GREGORIAN
METHOD:PUBLISH
BEGIN:VEVENT
DTSTAMP:20260420T150818Z
UID:21-2168534@ourredeemersandiego.org
DTSTART:20240128T210000Z
DTEND:20240128T230000Z
CLASS:PUBLIC
CREATED:20260420T064043
DESCRIPTION:
LAST-MODIFIED:20260420T064043
LOCATION:Our Redeemer Lutheran Church
SUMMARY:Oromo Ministries
URL;VALUE=URI:https://www.orlcsd.org/events/oromo-ministries/2024-01-28
END:VEVENT
END:VCALENDAR
