BEGIN:VCALENDAR
VERSION:2.0
PRODID:icalendar-ruby
CALSCALE:GREGORIAN
METHOD:PUBLISH
BEGIN:VEVENT
DTSTAMP:20260420T122440Z
UID:21-2167167@ourredeemersandiego.org
DTSTART:20240114T210000Z
DTEND:20240114T230000Z
CLASS:PUBLIC
CREATED:20260420T040504
DESCRIPTION:
LAST-MODIFIED:20260420T040504
LOCATION:Our Redeemer Lutheran Church
SUMMARY:Oromo Ministries
URL;VALUE=URI:https://www.orlcsd.org/events/oromo-ministries/2024-01-14
END:VEVENT
END:VCALENDAR
