BEGIN:VCALENDAR
VERSION:2.0
PRODID:icalendar-ruby
CALSCALE:GREGORIAN
METHOD:PUBLISH
BEGIN:VEVENT
DTSTAMP:20260420T105128Z
UID:21-2165799@ourredeemersandiego.org
DTSTART:20240107T210000Z
DTEND:20240107T230000Z
CLASS:PUBLIC
CREATED:20260419T225820
DESCRIPTION:
LAST-MODIFIED:20260419T225820
LOCATION:Our Redeemer Lutheran Church
SUMMARY:Oromo Ministries
URL;VALUE=URI:https://www.orlcsd.org/events/oromo-ministries/2024-01-07
END:VEVENT
END:VCALENDAR
